BEGIN:VCALENDAR
VERSION:2.0
PRODID:-//G.T.E.V. D&#039;Simsseer Prutting e.V. - ECPv6.15.16//NONSGML v1.0//EN
CALSCALE:GREGORIAN
METHOD:PUBLISH
X-ORIGINAL-URL:https://trachtenverein-prutting.de
X-WR-CALDESC:Veranstaltungen für G.T.E.V. D&#039;Simsseer Prutting e.V.
REFRESH-INTERVAL;VALUE=DURATION:PT1H
X-Robots-Tag:noindex
X-PUBLISHED-TTL:PT1H
BEGIN:VTIMEZONE
TZID:Europe/Paris
BEGIN:DAYLIGHT
TZOFFSETFROM:+0100
TZOFFSETTO:+0200
TZNAME:CEST
DTSTART:20240331T010000
END:DAYLIGHT
BEGIN:STANDARD
TZOFFSETFROM:+0200
TZOFFSETTO:+0100
TZNAME:CET
DTSTART:20241027T010000
END:STANDARD
BEGIN:DAYLIGHT
TZOFFSETFROM:+0100
TZOFFSETTO:+0200
TZNAME:CEST
DTSTART:20250330T010000
END:DAYLIGHT
BEGIN:STANDARD
TZOFFSETFROM:+0200
TZOFFSETTO:+0100
TZNAME:CET
DTSTART:20251026T010000
END:STANDARD
BEGIN:DAYLIGHT
TZOFFSETFROM:+0100
TZOFFSETTO:+0200
TZNAME:CEST
DTSTART:20260329T010000
END:DAYLIGHT
BEGIN:STANDARD
TZOFFSETFROM:+0200
TZOFFSETTO:+0100
TZNAME:CET
DTSTART:20261025T010000
END:STANDARD
END:VTIMEZONE
BEGIN:VEVENT
DTSTART;VALUE=DATE:20251024
DTEND;VALUE=DATE:20251025
DTSTAMP:20260419T185508
CREATED:20250216T161145Z
LAST-MODIFIED:20250216T161145Z
UID:10634-1761264000-1761350399@trachtenverein-prutting.de
SUMMARY:Gauversammlung mit Vorständebesprechung in Prutting
DESCRIPTION:
URL:https://trachtenverein-prutting.de/event/gauversammlung-mit-vorstaendebesprechung-in-prutting/
LOCATION:Pruttinger Dorfstadl\, Am Sportplatz 2\, Prutting\, Bayern\, 83134\, Deutschland
CATEGORIES:Gauveranstaltung,Vereinsveranstaltung
END:VEVENT
BEGIN:VEVENT
DTSTART;VALUE=DATE:20251026
DTEND;VALUE=DATE:20251027
DTSTAMP:20260419T185508
CREATED:20250216T161221Z
LAST-MODIFIED:20250216T161221Z
UID:10636-1761436800-1761523199@trachtenverein-prutting.de
SUMMARY:Leonhardiritt in Leonhardspfunzen
DESCRIPTION:
URL:https://trachtenverein-prutting.de/event/leonhardiritt-in-leonhardspfunzen/
END:VEVENT
END:VCALENDAR